BEGIN:VCALENDAR
VERSION:2.0
PRODID:-//Montana Association of Conservation Districts - ECPv6.15.20//NONSGML v1.0//EN
CALSCALE:GREGORIAN
METHOD:PUBLISH
X-ORIGINAL-URL:https://macdnet.org
X-WR-CALDESC:Events for Montana Association of Conservation Districts
REFRESH-INTERVAL;VALUE=DURATION:PT1H
X-Robots-Tag:noindex
X-PUBLISHED-TTL:PT1H
BEGIN:VTIMEZONE
TZID:America/Denver
BEGIN:DAYLIGHT
TZOFFSETFROM:-0700
TZOFFSETTO:-0600
TZNAME:MDT
DTSTART:20240310T090000
END:DAYLIGHT
BEGIN:STANDARD
TZOFFSETFROM:-0600
TZOFFSETTO:-0700
TZNAME:MST
DTSTART:20241103T080000
END:STANDARD
BEGIN:DAYLIGHT
TZOFFSETFROM:-0700
TZOFFSETTO:-0600
TZNAME:MDT
DTSTART:20250309T090000
END:DAYLIGHT
BEGIN:STANDARD
TZOFFSETFROM:-0600
TZOFFSETTO:-0700
TZNAME:MST
DTSTART:20251102T080000
END:STANDARD
BEGIN:DAYLIGHT
TZOFFSETFROM:-0700
TZOFFSETTO:-0600
TZNAME:MDT
DTSTART:20260308T090000
END:DAYLIGHT
BEGIN:STANDARD
TZOFFSETFROM:-0600
TZOFFSETTO:-0700
TZNAME:MST
DTSTART:20261101T080000
END:STANDARD
END:VTIMEZONE
BEGIN:VEVENT
DTSTART;TZID=America/Denver:20250328T110000
DTEND;TZID=America/Denver:20250328T120000
DTSTAMP:20260424T144934
CREATED:20250317T154653Z
LAST-MODIFIED:20250317T154729Z
UID:59787-1743159600-1743163200@macdnet.org
SUMMARY:Planning & Delivering High Impact Webinars
DESCRIPTION:Planning & Delivering High Impact Webinar Series (6th in series)\nMarch 28  \n11:00AM-12:00PM  \nWebinars have become powerful tools for reaching diverse audiences in our backyards and around the globe. Alabama Extension operates two urban forestry webinar series that have continued to grow and expand. The Tree Fund Webinar series\, started in 2015 to share emerging research in the field of arboriculture\, is now recognized as one the leading series in the field with global audiences averaging 800 attendees per webinar. The Raising Trees series\, started during the pandemic\, tackles a broader variety of topics and has expanded into offering Spanish content and topical series to address emerging needs. This presentation will review our success and challenges in developing webinars and provide tips for emerging content. This is the sixth webinar in the year-long “Reaching Your Target Audience & Providing Innovative Programs Webinar Series.” \nClick here to register.
URL:https://macdnet.org/event-calendar/planning-delivering-high-impact-webinar-series-6th-in-series/
CATEGORIES:Events Calendar
END:VEVENT
END:VCALENDAR