BEGIN:VCALENDAR
VERSION:2.0
PRODID:-//Montana Association of Conservation Districts - ECPv6.15.20//NONSGML v1.0//EN
CALSCALE:GREGORIAN
METHOD:PUBLISH
X-ORIGINAL-URL:https://macdnet.org
X-WR-CALDESC:Events for Montana Association of Conservation Districts
REFRESH-INTERVAL;VALUE=DURATION:PT1H
X-Robots-Tag:noindex
X-PUBLISHED-TTL:PT1H
BEGIN:VTIMEZONE
TZID:America/Denver
BEGIN:DAYLIGHT
TZOFFSETFROM:-0700
TZOFFSETTO:-0600
TZNAME:MDT
DTSTART:20240310T090000
END:DAYLIGHT
BEGIN:STANDARD
TZOFFSETFROM:-0600
TZOFFSETTO:-0700
TZNAME:MST
DTSTART:20241103T080000
END:STANDARD
BEGIN:DAYLIGHT
TZOFFSETFROM:-0700
TZOFFSETTO:-0600
TZNAME:MDT
DTSTART:20250309T090000
END:DAYLIGHT
BEGIN:STANDARD
TZOFFSETFROM:-0600
TZOFFSETTO:-0700
TZNAME:MST
DTSTART:20251102T080000
END:STANDARD
BEGIN:DAYLIGHT
TZOFFSETFROM:-0700
TZOFFSETTO:-0600
TZNAME:MDT
DTSTART:20260308T090000
END:DAYLIGHT
BEGIN:STANDARD
TZOFFSETFROM:-0600
TZOFFSETTO:-0700
TZNAME:MST
DTSTART:20261101T080000
END:STANDARD
END:VTIMEZONE
BEGIN:VEVENT
DTSTART;VALUE=DATE:20250316
DTEND;VALUE=DATE:20250323
DTSTAMP:20260419T121220
CREATED:20250305T152450Z
LAST-MODIFIED:20250311T201928Z
UID:57178-1742083200-1742687999@macdnet.org
SUMMARY:Montana Ag Week
DESCRIPTION:Montana Ag Week\nMarch 16-22  \n 
URL:https://macdnet.org/event-calendar/montana-ag-week/
CATEGORIES:Events Calendar
END:VEVENT
BEGIN:VEVENT
DTSTART;VALUE=DATE:20250318
DTEND;VALUE=DATE:20250320
DTSTAMP:20260419T121220
CREATED:20250304T171821Z
LAST-MODIFIED:20250311T201920Z
UID:56833-1742256000-1742428799@macdnet.org
SUMMARY:Pollinator Conservation Symposium
DESCRIPTION:Pollinator Conservation Symposium\nMarch 18-19  \nSalish Kootenai College  \nArlee/Charlo Theater  \n58138 US-93 \nRonan\, MT 59864
URL:https://macdnet.org/event-calendar/pollinator-conservation-symposium/
LOCATION:Salish Kootenai College\, 36244 Joe McDonald Dr\, Ronan\, MT\, 59864\, United States
CATEGORIES:Events Calendar
END:VEVENT
BEGIN:VEVENT
DTSTART;TZID=America/Denver:20250319T100000
DTEND;TZID=America/Denver:20250319T120000
DTSTAMP:20260419T121220
CREATED:20220119T234558Z
LAST-MODIFIED:20250709T143951Z
UID:36674-1742378400-1742385600@macdnet.org
SUMMARY:Employee Roundtable
DESCRIPTION:EO Roundtable Meetings usually meet on the third Wednesday of the month. For this month’s zoom information contact Chris Evans (chris@lewisandclarkcd.org). [Note: The EO Roundtable meetings for July 2025 and August 2025 have both been cancelled. For more information\, contact Chris Evans.]\n\nTopic: MCDEO Roundtable\nTime: 10:00 AM Mountain Time (US and Canada)\nPlease download and import the following iCalendar (.ics) files to your calendar system.\nMonthly: https://us02web.zoom.us/meeting/tZYlcO6vqj4vH9JCgJL-Wxx0Fi_fv8J3lFOD/ics?icsToken=DEGG1umcCWKBUYQiuQAALAAAADwKmtGvG2Rvb0Ff-PjxGh-OCZo8B4pWN1MFq51i9EHWuYLq0wiyxAIgdIFl_0MckQV3gWP3-FYgUYYRQTAwMDAwMQ&meetingMasterEventId=lPa1Rf1TSMegj2n2gdrRKQ\n\nJoin Zoom Meeting\nhttps://us02web.zoom.us/j/82877745556Meeting ID: 828 7774 5556\nPasscode: 626512— \nOne tap mobile\n+13462487799\,\,82877745556#\,\,\,\,*626512# US (Houston)\n+16694449171\,\,82877745556#\,\,\,\,*626512# US \n— \nDial by your location\n• +1 346 248 7799 US (Houston)\n• +1 669 444 9171 US\n• +1 669 900 9128 US (San Jose)\n• +1 719 359 4580 US\n• +1 253 205 0468 US\n• +1 253 215 8782 US (Tacoma)\n• +1 689 278 1000 US\n• +1 301 715 8592 US (Washington DC)\n• +1 305 224 1968 US\n• +1 309 205 3325 US\n• +1 312 626 6799 US (Chicago)\n• +1 360 209 5623 US\n• +1 386 347 5053 US\n• +1 507 473 4847 US\n• +1 564 217 2000 US\n• +1 646 558 8656 US (New York)\n• +1 646 931 3860 US \nMeeting ID: 828 7774 5556\nPasscode: 626512
URL:https://macdnet.org/event-calendar/employee-roundtable-2/2025-03-19/
LOCATION:Zoom
CATEGORIES:Events Calendar,Meetings,Trainings and Workshops
END:VEVENT
BEGIN:VEVENT
DTSTART;TZID=America/Denver:20250319T110000
DTEND;TZID=America/Denver:20250319T160000
DTSTAMP:20260419T121220
CREATED:20250305T162349Z
LAST-MODIFIED:20250311T202141Z
UID:57239-1742382000-1742400000@macdnet.org
SUMMARY:Steve Kenyon Workshop
DESCRIPTION:Steve Kenyon Workshop\nMarch 19  \n11:00AM-04:00PM (See flyer for specific workshop times) \nDry Prairie Rural Water Authority  \n5808 Hwy 16\,  \nCulbertson\, MT 59218 \n20250319_kenyon_event
URL:https://macdnet.org/event-calendar/steve-kenyon-workshop/
CATEGORIES:Events Calendar
END:VEVENT
BEGIN:VEVENT
DTSTART;TZID=America/Denver:20250319T120000
DTEND;TZID=America/Denver:20250319T130000
DTSTAMP:20260419T121220
CREATED:20250317T153856Z
LAST-MODIFIED:20250317T153856Z
UID:59785-1742385600-1742389200@macdnet.org
SUMMARY:Neighboring Through Drought Webinar
DESCRIPTION:Neighboring Through Drought Webinar\nMarch 19 \n12:00PM-01:00PM  \nThe third webinar of WLA’s 2025 Water Webinar series will highlight the successes and challenges of community-scale solutions to water sharing during times of drought. What works? What doesn’t? And what do landowners need to know about developing community-led solutions? Our panel of landowners\, policy experts\, and regional NGO partners will tackle these questions\, and many more. \nJoin us to learn more about how these programs work\, what they mean for landowners and water users\, and how they could play a role in sustaining working lands and watersheds. \nClick here to register.
URL:https://macdnet.org/event-calendar/neighboring-through-drought-webinar/
LOCATION:Zoom
CATEGORIES:Events Calendar
END:VEVENT
BEGIN:VEVENT
DTSTART;TZID=America/Denver:20250319T150000
DTEND;TZID=America/Denver:20250319T150000
DTSTAMP:20260419T121220
CREATED:20210920T235803Z
LAST-MODIFIED:20210920T235803Z
UID:36676-1742396400-1742396400@macdnet.org
SUMMARY:Prairie County CD Meeting
DESCRIPTION:
URL:https://macdnet.org/event-calendar/__trashed-68__trashed/2025-03-19/
CATEGORIES:CD Board Meetings
END:VEVENT
BEGIN:VEVENT
DTSTART;TZID=America/Denver:20250319T160000
DTEND;TZID=America/Denver:20250319T160000
DTSTAMP:20260419T121220
CREATED:20210920T235804Z
LAST-MODIFIED:20210920T235804Z
UID:36677-1742400000-1742400000@macdnet.org
SUMMARY:Lincoln Conservation District
DESCRIPTION:The Lincoln Conservation District Meetings alternate bimonthly between the U.S.F.S. Office in Eureka\, and Plum Creek Timberlands Office in Libby.
URL:https://macdnet.org/event-calendar/__trashed-69__trashed/2025-03-19/
CATEGORIES:CD Board Meetings
END:VEVENT
BEGIN:VEVENT
DTSTART;TZID=America/Denver:20250319T190000
DTEND;TZID=America/Denver:20250319T190000
DTSTAMP:20260419T121220
CREATED:20210920T235758Z
LAST-MODIFIED:20210920T235758Z
UID:36679-1742410800-1742410800@macdnet.org
SUMMARY:Green Mountain CD Meeting
DESCRIPTION:
URL:https://macdnet.org/event-calendar/__trashed-41__trashed/2025-03-19/
CATEGORIES:CD Board Meetings
END:VEVENT
BEGIN:VEVENT
DTSTART;TZID=America/Denver:20250319T190000
DTEND;TZID=America/Denver:20250319T220000
DTSTAMP:20260419T121220
CREATED:20210920T235808Z
LAST-MODIFIED:20210920T235808Z
UID:36675-1742410800-1742421600@macdnet.org
SUMMARY:BHWC Monthly Meeting
DESCRIPTION:
URL:https://macdnet.org/event-calendar/__trashed-87__trashed/2025-03-19/
CATEGORIES:Miscellaneous
END:VEVENT
END:VCALENDAR