BEGIN:VCALENDAR
VERSION:2.0
PRODID:-//Montana Association of Conservation Districts - ECPv6.15.20//NONSGML v1.0//EN
CALSCALE:GREGORIAN
METHOD:PUBLISH
X-ORIGINAL-URL:https://macdnet.org
X-WR-CALDESC:Events for Montana Association of Conservation Districts
REFRESH-INTERVAL;VALUE=DURATION:PT1H
X-Robots-Tag:noindex
X-PUBLISHED-TTL:PT1H
BEGIN:VTIMEZONE
TZID:America/Denver
BEGIN:DAYLIGHT
TZOFFSETFROM:-0700
TZOFFSETTO:-0600
TZNAME:MDT
DTSTART:20240310T090000
END:DAYLIGHT
BEGIN:STANDARD
TZOFFSETFROM:-0600
TZOFFSETTO:-0700
TZNAME:MST
DTSTART:20241103T080000
END:STANDARD
BEGIN:DAYLIGHT
TZOFFSETFROM:-0700
TZOFFSETTO:-0600
TZNAME:MDT
DTSTART:20250309T090000
END:DAYLIGHT
BEGIN:STANDARD
TZOFFSETFROM:-0600
TZOFFSETTO:-0700
TZNAME:MST
DTSTART:20251102T080000
END:STANDARD
BEGIN:DAYLIGHT
TZOFFSETFROM:-0700
TZOFFSETTO:-0600
TZNAME:MDT
DTSTART:20260308T090000
END:DAYLIGHT
BEGIN:STANDARD
TZOFFSETFROM:-0600
TZOFFSETTO:-0700
TZNAME:MST
DTSTART:20261101T080000
END:STANDARD
END:VTIMEZONE
BEGIN:VEVENT
DTSTART;VALUE=DATE:20250310
DTEND;VALUE=DATE:20250313
DTSTAMP:20260424T002329
CREATED:20250213T164952Z
LAST-MODIFIED:20250213T164952Z
UID:54761-1741564800-1741823999@macdnet.org
SUMMARY:Noxious Weed Management Advisory Council Meeting
DESCRIPTION:Noxious Weed Management Advisory Council Meeting\nMarch 10-12  \nDelta Hotels Helena Colonial \n2301 Colonial Drive \nHelena\, Montana\, USA\, 59601 \nThe Noxious Weed Management Advisory Council will meet beginning on Monday\, March 10\, 2025\, for the fall business meeting at the Delta Hotel in Helena\, Montana. The council will review applications for the 2025 Noxious Weed Trust Fund grants through a series of hearings March 10-12\, 2025. Funding deliberations will take place at 2:00 P.M. on Wednesday\, March 12\, 2025. Meetings will be conducted in-person with the option to join online through Zoom. An agenda is available on the Montana Department of Agriculture website at agr.mt.gov. To request information to join the meeting virtually\, please contact Greta Dige\, Noxious Weed Trust Fund Coordinator.
URL:https://macdnet.org/event-calendar/noxious-weed-management-advisory-council-meeting/
LOCATION:Delta Hotel\, 2301 Colonial Dr\, Helena\, MT\, 59601\, United States
CATEGORIES:Events Calendar
END:VEVENT
BEGIN:VEVENT
DTSTART;TZID=America/Denver:20250310T070000
DTEND;TZID=America/Denver:20250310T070000
DTSTAMP:20260424T002329
CREATED:20210920T235754Z
LAST-MODIFIED:20210920T235754Z
UID:36644-1741590000-1741590000@macdnet.org
SUMMARY:Teton CD Meeting
DESCRIPTION:
URL:https://macdnet.org/event-calendar/__trashed-11__trashed/2025-03-10/
CATEGORIES:CD Board Meetings
END:VEVENT
BEGIN:VEVENT
DTSTART;TZID=America/Denver:20250310T093000
DTEND;TZID=America/Denver:20250311T160000
DTSTAMP:20260424T002329
CREATED:20250225T171848Z
LAST-MODIFIED:20250225T171848Z
UID:55772-1741599000-1741708800@macdnet.org
SUMMARY:Grant Writing USA: 2 Day Grant Writing Training
DESCRIPTION:Grant Writing USA:\n2 Day Grant Writing Training\nMarch 10-11\, 2025 \n09:30AM-04:00PM \nHosted by MACD\, with support from WMCC and DNRC\, this comprehensive two-day grant writing course covers how to write successful grant proposals and find funding opportunities. Covering federal\, state\, local\, and foundation grants\, the course is ideal for both beginners and experienced writers. \nRegister Here
URL:https://macdnet.org/event-calendar/grant-writing-usa-2-day-grant-writing-training/
LOCATION:Zoom
CATEGORIES:Events Calendar,Trainings and Workshops
END:VEVENT
BEGIN:VEVENT
DTSTART;TZID=America/Denver:20250310T130000
DTEND;TZID=America/Denver:20250310T133000
DTSTAMP:20260424T002329
CREATED:20210920T235754Z
LAST-MODIFIED:20210920T235754Z
UID:36638-1741611600-1741613400@macdnet.org
SUMMARY:Dawson County CD Meeting
DESCRIPTION:
URL:https://macdnet.org/event-calendar/__trashed-7__trashed/2025-03-10/
CATEGORIES:CD Board Meetings
END:VEVENT
BEGIN:VEVENT
DTSTART;TZID=America/Denver:20250310T170000
DTEND;TZID=America/Denver:20250310T173000
DTSTAMP:20260424T002329
CREATED:20210920T235756Z
LAST-MODIFIED:20210920T235756Z
UID:36645-1741626000-1741627800@macdnet.org
SUMMARY:Sweet Grass County Conservation District
DESCRIPTION:
URL:https://macdnet.org/event-calendar/__trashed-22__trashed/2025-03-10/
CATEGORIES:CD Board Meetings
END:VEVENT
BEGIN:VEVENT
DTSTART;TZID=America/Denver:20250310T173000
DTEND;TZID=America/Denver:20250310T173000
DTSTAMP:20260424T002329
CREATED:20210920T235803Z
LAST-MODIFIED:20240229T215024Z
UID:42072-1741627800-1741627800@macdnet.org
SUMMARY:Missoula Conservation District
DESCRIPTION:
URL:https://macdnet.org/event-calendar/__trashed-66__trashed-2024-02-12/2025-03-10/
CATEGORIES:CD Board Meetings
END:VEVENT
BEGIN:VEVENT
DTSTART;TZID=America/Denver:20250310T190000
DTEND;TZID=America/Denver:20250310T190000
DTSTAMP:20260424T002329
CREATED:20210920T235756Z
LAST-MODIFIED:20210920T235756Z
UID:36641-1741633200-1741633200@macdnet.org
SUMMARY:Meagher County Conservation District
DESCRIPTION:
URL:https://macdnet.org/event-calendar/__trashed-24__trashed/2025-03-10/
CATEGORIES:CD Board Meetings
END:VEVENT
BEGIN:VEVENT
DTSTART;TZID=America/Denver:20250310T190000
DTEND;TZID=America/Denver:20250310T190000
DTSTAMP:20260424T002329
CREATED:20210920T235800Z
LAST-MODIFIED:20210920T235800Z
UID:36639-1741633200-1741633200@macdnet.org
SUMMARY:Flathead CD 310 Meeting
DESCRIPTION:
URL:https://macdnet.org/event-calendar/__trashed-52__trashed/2025-03-10/
CATEGORIES:CD Board Meetings
END:VEVENT
BEGIN:VEVENT
DTSTART;TZID=America/Denver:20250310T193000
DTEND;TZID=America/Denver:20250310T193000
DTSTAMP:20260424T002329
CREATED:20210920T235757Z
LAST-MODIFIED:20210920T235757Z
UID:36643-1741635000-1741635000@macdnet.org
SUMMARY:Pondera County CD Meeting
DESCRIPTION:
URL:https://macdnet.org/event-calendar/__trashed-34__trashed/2025-03-10/
CATEGORIES:CD Board Meetings
END:VEVENT
BEGIN:VEVENT
DTSTART;TZID=America/Denver:20250310T193000
DTEND;TZID=America/Denver:20250310T193000
DTSTAMP:20260424T002329
CREATED:20210920T235757Z
LAST-MODIFIED:20210920T235757Z
UID:36640-1741635000-1741635000@macdnet.org
SUMMARY:Granite Conservation District
DESCRIPTION:
URL:https://macdnet.org/event-calendar/__trashed-30__trashed/2025-03-10/
CATEGORIES:CD Board Meetings
END:VEVENT
END:VCALENDAR