BEGIN:VCALENDAR
VERSION:2.0
PRODID:-//Montana Association of Conservation Districts - ECPv6.15.20//NONSGML v1.0//EN
CALSCALE:GREGORIAN
METHOD:PUBLISH
X-ORIGINAL-URL:https://macdnet.org
X-WR-CALDESC:Events for Montana Association of Conservation Districts
REFRESH-INTERVAL;VALUE=DURATION:PT1H
X-Robots-Tag:noindex
X-PUBLISHED-TTL:PT1H
BEGIN:VTIMEZONE
TZID:America/Denver
BEGIN:DAYLIGHT
TZOFFSETFROM:-0700
TZOFFSETTO:-0600
TZNAME:MDT
DTSTART:20240310T090000
END:DAYLIGHT
BEGIN:STANDARD
TZOFFSETFROM:-0600
TZOFFSETTO:-0700
TZNAME:MST
DTSTART:20241103T080000
END:STANDARD
BEGIN:DAYLIGHT
TZOFFSETFROM:-0700
TZOFFSETTO:-0600
TZNAME:MDT
DTSTART:20250309T090000
END:DAYLIGHT
BEGIN:STANDARD
TZOFFSETFROM:-0600
TZOFFSETTO:-0700
TZNAME:MST
DTSTART:20251102T080000
END:STANDARD
BEGIN:DAYLIGHT
TZOFFSETFROM:-0700
TZOFFSETTO:-0600
TZNAME:MDT
DTSTART:20260308T090000
END:DAYLIGHT
BEGIN:STANDARD
TZOFFSETFROM:-0600
TZOFFSETTO:-0700
TZNAME:MST
DTSTART:20261101T080000
END:STANDARD
END:VTIMEZONE
BEGIN:VEVENT
DTSTART;TZID=America/Denver:20250301T093000
DTEND;TZID=America/Denver:20250301T153000
DTSTAMP:20260419T175819
CREATED:20250115T164715Z
LAST-MODIFIED:20250311T202228Z
UID:51452-1740821400-1740843000@macdnet.org
SUMMARY:Free Workshop Elaine Froese: Finding Fairness in Farm Transition
DESCRIPTION:Free Workshop Elaine Froese: Finding Fairness in Farm Transition\nMarch 1  \n09:30AM-03:30PM  \n189 US-12 \nTownsend\, MT 59644 \nBCD is excited to announce that we will be hosting a free workshop on March 1st at 9:30 am – 3:30 pm. This will be held the same day as our Ag dinner which will be starting at 5 pm. \nOur guest\, Elaine Froese\, is coming from Canada to lead us on the topic of Finding Fairness in Farm Transition. She is known as “Canada’s farm whisperer” and known nationwide for her knowledge of farm succession. She has been a voice of reason and guide for over 25 years for a multitude of farm families across the U.S. to make successful transitions to the upcoming generations. Her program: Finding Fairness in Farm Transition takes a dive into finding a “new language to manage expectations and navigate finding fairness in farm transition so that everyone will be successful”. She will also be the keynote speaker for our Ag dinner. We are hoping this will be a helpful tool for our community to use and a guide on how we approach farm succession with the next generation. We hope you can make it! \nClick here for more information. \nRegister Here
URL:https://macdnet.org/event-calendar/free-workshop-elaine-froese-finding-fairness-in-farm-transition/
CATEGORIES:Events Calendar,Meetings
END:VEVENT
END:VCALENDAR