BEGIN:VCALENDAR
VERSION:2.0
PRODID:-//Montana Association of Conservation Districts - ECPv6.15.20//NONSGML v1.0//EN
CALSCALE:GREGORIAN
METHOD:PUBLISH
X-ORIGINAL-URL:https://macdnet.org
X-WR-CALDESC:Events for Montana Association of Conservation Districts
REFRESH-INTERVAL;VALUE=DURATION:PT1H
X-Robots-Tag:noindex
X-PUBLISHED-TTL:PT1H
BEGIN:VTIMEZONE
TZID:America/Denver
BEGIN:DAYLIGHT
TZOFFSETFROM:-0700
TZOFFSETTO:-0600
TZNAME:MDT
DTSTART:20240310T090000
END:DAYLIGHT
BEGIN:STANDARD
TZOFFSETFROM:-0600
TZOFFSETTO:-0700
TZNAME:MST
DTSTART:20241103T080000
END:STANDARD
BEGIN:DAYLIGHT
TZOFFSETFROM:-0700
TZOFFSETTO:-0600
TZNAME:MDT
DTSTART:20250309T090000
END:DAYLIGHT
BEGIN:STANDARD
TZOFFSETFROM:-0600
TZOFFSETTO:-0700
TZNAME:MST
DTSTART:20251102T080000
END:STANDARD
BEGIN:DAYLIGHT
TZOFFSETFROM:-0700
TZOFFSETTO:-0600
TZNAME:MDT
DTSTART:20260308T090000
END:DAYLIGHT
BEGIN:STANDARD
TZOFFSETFROM:-0600
TZOFFSETTO:-0700
TZNAME:MST
DTSTART:20261101T080000
END:STANDARD
END:VTIMEZONE
BEGIN:VEVENT
DTSTART;VALUE=DATE:20250225
DTEND;VALUE=DATE:20250301
DTSTAMP:20260420T010527
CREATED:20241219T181931Z
LAST-MODIFIED:20250311T202221Z
UID:51067-1740441600-1740787199@macdnet.org
SUMMARY:Association of Montana Floodplain Managers Annual Conference
DESCRIPTION:Association of Montana Floodplain Managers Annual Conference\nFebruary 25-28\, 2025 \n 200 South Pattee Street \nMissoula\, MT 59802 \nYou are cordially invited to participate in the 25th Annual Association of Montana Floodplain Managers (AMFM) Conference\, the premier floodplain management convention in Montana! The conference will include presentations\, technical workshops\, training sessions and exhibits in a variety of areas. Please review the following announcement for detailed workshop information. \nDetailed Workshop Information Flyer  \nClick here for more information
URL:https://macdnet.org/event-calendar/association-of-montana-floodplain-managers-annual-conference/
LOCATION:Holiday Inn Missoula Downtown\, 200 South Pattee Street\, Missoula\, 59802
CATEGORIES:Events Calendar
END:VEVENT
BEGIN:VEVENT
DTSTART;TZID=America/Denver:20250225T070000
DTEND;TZID=America/Denver:20250225T080000
DTSTAMP:20260420T010527
CREATED:20241219T215345Z
LAST-MODIFIED:20241219T215436Z
UID:51082-1740466800-1740470400@macdnet.org
SUMMARY:MACD Legislative Committee
DESCRIPTION:[vc_row][vc_column][vc_column_text]During the legislative session\, the MACD Legislative Committee meets weekly on Tuesdays at 7am via zoom. Please contact rebecca@macdnet.org for further information and the zoom link.[/vc_column_text][/vc_column][/vc_row]
URL:https://macdnet.org/event-calendar/macd-legislative-committee-3/2025-02-25/
LOCATION:Zoom
END:VEVENT
BEGIN:VEVENT
DTSTART;TZID=America/Denver:20250225T180000
DTEND;TZID=America/Denver:20250225T190000
DTSTAMP:20260420T010527
CREATED:20220303T180508Z
LAST-MODIFIED:20220303T180508Z
UID:36449-1740506400-1740510000@macdnet.org
SUMMARY:Broadwater Conservation District Monthly Meeting
DESCRIPTION:Monthly Meeting on the fourth Tuesday of every month.
URL:https://macdnet.org/event-calendar/broadwater-conservation-district-monthly-meeting/2025-02-25/
CATEGORIES:CD Board Meetings
END:VEVENT
BEGIN:VEVENT
DTSTART;TZID=America/Denver:20250225T190000
DTEND;TZID=America/Denver:20250225T190000
DTSTAMP:20260420T010527
CREATED:20210920T235759Z
LAST-MODIFIED:20210920T235759Z
UID:36648-1740510000-1740510000@macdnet.org
SUMMARY:Bitterroot CD Meeting
DESCRIPTION:Please see the Bitterroot CD website for more info.
URL:https://macdnet.org/event-calendar/__trashed-47__trashed/2025-02-25/
CATEGORIES:CD Board Meetings
END:VEVENT
END:VCALENDAR