BEGIN:VCALENDAR
VERSION:2.0
PRODID:-//Montana Association of Conservation Districts - ECPv6.15.20//NONSGML v1.0//EN
CALSCALE:GREGORIAN
METHOD:PUBLISH
X-WR-CALNAME:Montana Association of Conservation Districts
X-ORIGINAL-URL:https://macdnet.org
X-WR-CALDESC:Events for Montana Association of Conservation Districts
REFRESH-INTERVAL;VALUE=DURATION:PT1H
X-Robots-Tag:noindex
X-PUBLISHED-TTL:PT1H
BEGIN:VTIMEZONE
TZID:America/Denver
BEGIN:DAYLIGHT
TZOFFSETFROM:-0700
TZOFFSETTO:-0600
TZNAME:MDT
DTSTART:20240310T090000
END:DAYLIGHT
BEGIN:STANDARD
TZOFFSETFROM:-0600
TZOFFSETTO:-0700
TZNAME:MST
DTSTART:20241103T080000
END:STANDARD
BEGIN:DAYLIGHT
TZOFFSETFROM:-0700
TZOFFSETTO:-0600
TZNAME:MDT
DTSTART:20250309T090000
END:DAYLIGHT
BEGIN:STANDARD
TZOFFSETFROM:-0600
TZOFFSETTO:-0700
TZNAME:MST
DTSTART:20251102T080000
END:STANDARD
BEGIN:DAYLIGHT
TZOFFSETFROM:-0700
TZOFFSETTO:-0600
TZNAME:MDT
DTSTART:20260308T090000
END:DAYLIGHT
BEGIN:STANDARD
TZOFFSETFROM:-0600
TZOFFSETTO:-0700
TZNAME:MST
DTSTART:20261101T080000
END:STANDARD
END:VTIMEZONE
BEGIN:VEVENT
DTSTART;VALUE=DATE:20250207
DTEND;VALUE=DATE:20250210
DTSTAMP:20260419T154109
CREATED:20250106T174716Z
LAST-MODIFIED:20250311T202722Z
UID:51243-1738886400-1739145599@macdnet.org
SUMMARY:Montana Farmer’s Union Annual Women’s Conference
DESCRIPTION:Montana Farmer’s Union Annual Women’s Conference\nFebruary 7-9 \, 2025 \nFairmont Hot Springs & Resort \n1500 Fairmont Road \nFairmont\, MT 59711 \nJoin us for two exciting Montana Farmers Union’s Women’s Conferences where we will work on building new connections\, community\, and celebrate together. \nThese conferences (Malta 1/31-2/1 and Fairmont 2/7-2/9) are about food\, farming and beyond\, from connections in community to the science of our farms. \nClick here for more information.
URL:https://macdnet.org/event-calendar/montana-farmers-union-annual-womens-conference-2/
LOCATION:Fairmont Hot Springs & Resort\, 1500 Fairmont Road\, Fairmont\, MT\, 59711
CATEGORIES:Events Calendar
END:VEVENT
BEGIN:VEVENT
DTSTART;VALUE=DATE:20250208
DTEND;VALUE=DATE:20250213
DTSTAMP:20260419T154109
CREATED:20240610T163407Z
LAST-MODIFIED:20250311T202656Z
UID:44257-1738972800-1739404799@macdnet.org
SUMMARY:NACD Annual Meeting
DESCRIPTION:NACD ANNUAL MEETING\nFebruary 8-12\, 2025 \nSalt Lake City\, Utah \nThe National Association of Conservation Districts (NACD) is having the 2025 NACD Annual Meeting in Salt Lake City\, Utah on February 8-12\, 2025. \nMore Information Here
URL:https://macdnet.org/event-calendar/nacd-annual-meeting/
LOCATION:Salt Lake City\, Salt Lake City\, UT\, 84101\, United States
CATEGORIES:Events Calendar,Meetings
END:VEVENT
END:VCALENDAR