BEGIN:VCALENDAR
VERSION:2.0
PRODID:-//Montana Association of Conservation Districts - ECPv6.15.20//NONSGML v1.0//EN
CALSCALE:GREGORIAN
METHOD:PUBLISH
X-WR-CALNAME:Montana Association of Conservation Districts
X-ORIGINAL-URL:https://macdnet.org
X-WR-CALDESC:Events for Montana Association of Conservation Districts
REFRESH-INTERVAL;VALUE=DURATION:PT1H
X-Robots-Tag:noindex
X-PUBLISHED-TTL:PT1H
BEGIN:VTIMEZONE
TZID:America/Denver
BEGIN:DAYLIGHT
TZOFFSETFROM:-0700
TZOFFSETTO:-0600
TZNAME:MDT
DTSTART:20240310T090000
END:DAYLIGHT
BEGIN:STANDARD
TZOFFSETFROM:-0600
TZOFFSETTO:-0700
TZNAME:MST
DTSTART:20241103T080000
END:STANDARD
BEGIN:DAYLIGHT
TZOFFSETFROM:-0700
TZOFFSETTO:-0600
TZNAME:MDT
DTSTART:20250309T090000
END:DAYLIGHT
BEGIN:STANDARD
TZOFFSETFROM:-0600
TZOFFSETTO:-0700
TZNAME:MST
DTSTART:20251102T080000
END:STANDARD
BEGIN:DAYLIGHT
TZOFFSETFROM:-0700
TZOFFSETTO:-0600
TZNAME:MDT
DTSTART:20260308T090000
END:DAYLIGHT
BEGIN:STANDARD
TZOFFSETFROM:-0600
TZOFFSETTO:-0700
TZNAME:MST
DTSTART:20261101T080000
END:STANDARD
END:VTIMEZONE
BEGIN:VEVENT
DTSTART;TZID=America/Denver:20250203T080000
DTEND;TZID=America/Denver:20250204T170000
DTSTAMP:20260420T165541
CREATED:20241125T195330Z
LAST-MODIFIED:20250311T202851Z
UID:49889-1738569600-1738688400@macdnet.org
SUMMARY:2025 MWCC Virtual Annual Meeting
DESCRIPTION:2025 MWCC Virtual Annual Meeting\nFebruary 3-4\, 2025 \nEach year\, MWCC hosts an annual meeting to provide updates on our programs and resources to partners\, as well as to provide opportunities for the collaborative conservation community to connect and learn. \nPlease save the date for our upcoming Virtual Annual Meeting on February 3 & 4!  \nMore Information Here
URL:https://macdnet.org/event-calendar/2025-mwcc-virtual-annual-meeting/
LOCATION:Zoom
CATEGORIES:Events Calendar,Meetings
END:VEVENT
BEGIN:VEVENT
DTSTART;VALUE=DATE:20250204
DTEND;VALUE=DATE:20250207
DTSTAMP:20260420T165541
CREATED:20250110T152203Z
LAST-MODIFIED:20250311T202839Z
UID:51282-1738627200-1738886399@macdnet.org
SUMMARY:2025 Soil Health Symposium
DESCRIPTION:2025 Soil Health Symposium\nFebruary 4-6\, 2025 \nBillings Hotel and Convention Center  \n1223 Mullowney Lane \nBillings\, MT  \nJoin us for the 5th Annual Montana Soil Health Symposium\, an event that brings together local producers\, leaders in regenerative agriculture\, and technical specialists to share their knowledge and learn about new innovations in soil health. \nMore Information Here!
URL:https://macdnet.org/event-calendar/2025-soil-health-symposium/
LOCATION:Billings Hotel and Convention Center\, 1223 Mullowney Ln #6391\, Billings\, MT\, 59101\, United States
CATEGORIES:Events Calendar
END:VEVENT
BEGIN:VEVENT
DTSTART;TZID=America/Denver:20250204T070000
DTEND;TZID=America/Denver:20250204T080000
DTSTAMP:20260420T165541
CREATED:20241219T215345Z
LAST-MODIFIED:20241219T215433Z
UID:51079-1738652400-1738656000@macdnet.org
SUMMARY:MACD Legislative Committee
DESCRIPTION:[vc_row][vc_column][vc_column_text]During the legislative session\, the MACD Legislative Committee meets weekly on Tuesdays at 7am via zoom. Please contact rebecca@macdnet.org for further information and the zoom link.[/vc_column_text][/vc_column][/vc_row]
URL:https://macdnet.org/event-calendar/macd-legislative-committee-3/2025-02-04/
LOCATION:Zoom
END:VEVENT
BEGIN:VEVENT
DTSTART;TZID=America/Denver:20250204T090000
DTEND;TZID=America/Denver:20250204T170000
DTSTAMP:20260420T165541
CREATED:20210908T031402Z
LAST-MODIFIED:20210908T031402Z
UID:45087-1738659600-1738688400@macdnet.org
SUMMARY:Toole CD Meeting
DESCRIPTION:Contact the conservation district for the most up-to-date meeting information
URL:https://macdnet.org/event-calendar/toole-cd-meeting/2025-02-04/
LOCATION:Shelby USDA Service Center\, 1125 Oilfield Avenue\, Shelby\, 59474\, United States
END:VEVENT
BEGIN:VEVENT
DTSTART;TZID=America/Denver:20250204T110000
DTEND;TZID=America/Denver:20250204T110000
DTSTAMP:20260420T165541
CREATED:20210920T235802Z
LAST-MODIFIED:20210920T235802Z
UID:35690-1738666800-1738666800@macdnet.org
SUMMARY:Park CD Meeting
DESCRIPTION:Please see the Park CD website for more information.
URL:https://macdnet.org/event-calendar/__trashed-59__trashed/2025-02-04/
CATEGORIES:CD Board Meetings
END:VEVENT
BEGIN:VEVENT
DTSTART;TZID=America/Denver:20250204T140000
DTEND;TZID=America/Denver:20250204T140000
DTSTAMP:20260420T165541
CREATED:20210920T235755Z
LAST-MODIFIED:20210920T235755Z
UID:35691-1738677600-1738677600@macdnet.org
SUMMARY:Stillwater CD Meeting
DESCRIPTION:
URL:https://macdnet.org/event-calendar/__trashed-14__trashed/2025-02-04/
CATEGORIES:CD Board Meetings
END:VEVENT
BEGIN:VEVENT
DTSTART;TZID=America/Denver:20250204T173000
DTEND;TZID=America/Denver:20250204T173000
DTSTAMP:20260420T165541
CREATED:20210920T235754Z
LAST-MODIFIED:20210920T235754Z
UID:35688-1738690200-1738690200@macdnet.org
SUMMARY:Custer County CD Meeting
DESCRIPTION:
URL:https://macdnet.org/event-calendar/__trashed-12__trashed/2025-02-04/
CATEGORIES:CD Board Meetings
END:VEVENT
BEGIN:VEVENT
DTSTART;TZID=America/Denver:20250204T173000
DTEND;TZID=America/Denver:20250204T190000
DTSTAMP:20260420T165541
CREATED:20250115T194044Z
LAST-MODIFIED:20250311T202844Z
UID:51458-1738690200-1738695600@macdnet.org
SUMMARY:Invasive Annual Grasses in Montana Presentation
DESCRIPTION:Invasive Annual Grasses in Montana Presentation\nFebruary 4 \n05:30PM-07:00PM  \nMontana Wild \n2668 Broadwater Ave \nHelena\, MT 59601 \nJoin the Lewis & Clark Conservation District and the Helena NRCS Field Office for a presentation by Dr. Jane Mangold on Invasive Annual Grasses in Montana\, followed by a Snow Forecast presentation. One (1) Pesticide Applicator Credit can be obtained through this event. Seating is limited\, so please RSVP as soon as possible with chris@lewisandclarkcd.org. \nInformational Flyer
URL:https://macdnet.org/event-calendar/invasive-annual-grasses-in-montana-presentation/
LOCATION:Montana Wild\, 2668 Broadwater Ave\, Helena\, MT\, 59602\, United States
CATEGORIES:Events Calendar,Trainings and Workshops
ORGANIZER;CN="Lewis and Clark Conservation District":MAILTO:lccd@mt.net
END:VEVENT
BEGIN:VEVENT
DTSTART;TZID=America/Denver:20250204T190000
DTEND;TZID=America/Denver:20250204T190000
DTSTAMP:20260420T165541
CREATED:20210920T235755Z
LAST-MODIFIED:20210920T235755Z
UID:35689-1738695600-1738695600@macdnet.org
SUMMARY:Judith Basin CD Meeting
DESCRIPTION:
URL:https://macdnet.org/event-calendar/__trashed-19__trashed/2025-02-04/
CATEGORIES:CD Board Meetings
END:VEVENT
BEGIN:VEVENT
DTSTART;TZID=America/Denver:20250204T190000
DTEND;TZID=America/Denver:20250204T190000
DTSTAMP:20260420T165541
CREATED:20210920T235756Z
LAST-MODIFIED:20210920T235756Z
UID:35692-1738695600-1738695600@macdnet.org
SUMMARY:Roosevelt County CD Meeting
DESCRIPTION:Please see the Roosevelt County CD website for more info.
URL:https://macdnet.org/event-calendar/__trashed-20__trashed/2025-02-04/
CATEGORIES:CD Board Meetings
END:VEVENT
BEGIN:VEVENT
DTSTART;TZID=America/Denver:20250204T190000
DTEND;TZID=America/Denver:20250204T190000
DTSTAMP:20260420T165541
CREATED:20210920T235756Z
LAST-MODIFIED:20210920T235756Z
UID:35694-1738695600-1738695600@macdnet.org
SUMMARY:Wibaux CD Meeting
DESCRIPTION:
URL:https://macdnet.org/event-calendar/__trashed-26__trashed/2025-02-04/
CATEGORIES:CD Board Meetings
END:VEVENT
BEGIN:VEVENT
DTSTART;TZID=America/Denver:20250204T190000
DTEND;TZID=America/Denver:20250204T220000
DTSTAMP:20260420T165541
CREATED:20210920T201921Z
LAST-MODIFIED:20210920T201921Z
UID:35686-1738695600-1738706400@macdnet.org
SUMMARY:Roosevelt CD Board Meeting
DESCRIPTION:Contact Roosevelt CD for the most up-to-date meeting information.
URL:https://macdnet.org/event-calendar/roosevelt-cd-board-meeting/2025-02-04/
LOCATION:USDA Culbertson Office\, 508 E 6th\, Culbertson\, MT\, United States
CATEGORIES:CD Board Meetings
END:VEVENT
END:VCALENDAR