BEGIN:VCALENDAR
VERSION:2.0
PRODID:-//Montana Association of Conservation Districts - ECPv6.15.20//NONSGML v1.0//EN
CALSCALE:GREGORIAN
METHOD:PUBLISH
X-WR-CALNAME:Montana Association of Conservation Districts
X-ORIGINAL-URL:https://macdnet.org
X-WR-CALDESC:Events for Montana Association of Conservation Districts
REFRESH-INTERVAL;VALUE=DURATION:PT1H
X-Robots-Tag:noindex
X-PUBLISHED-TTL:PT1H
BEGIN:VTIMEZONE
TZID:America/Denver
BEGIN:DAYLIGHT
TZOFFSETFROM:-0700
TZOFFSETTO:-0600
TZNAME:MDT
DTSTART:20240310T090000
END:DAYLIGHT
BEGIN:STANDARD
TZOFFSETFROM:-0600
TZOFFSETTO:-0700
TZNAME:MST
DTSTART:20241103T080000
END:STANDARD
BEGIN:DAYLIGHT
TZOFFSETFROM:-0700
TZOFFSETTO:-0600
TZNAME:MDT
DTSTART:20250309T090000
END:DAYLIGHT
BEGIN:STANDARD
TZOFFSETFROM:-0600
TZOFFSETTO:-0700
TZNAME:MST
DTSTART:20251102T080000
END:STANDARD
BEGIN:DAYLIGHT
TZOFFSETFROM:-0700
TZOFFSETTO:-0600
TZNAME:MDT
DTSTART:20260308T090000
END:DAYLIGHT
BEGIN:STANDARD
TZOFFSETFROM:-0600
TZOFFSETTO:-0700
TZNAME:MST
DTSTART:20261101T080000
END:STANDARD
END:VTIMEZONE
BEGIN:VEVENT
DTSTART;TZID=America/Denver:20250203T073000
DTEND;TZID=America/Denver:20250203T090000
DTSTAMP:20260422T070959
CREATED:20220202T204812Z
LAST-MODIFIED:20231228T215733Z
UID:40948-1738567800-1738573200@macdnet.org
SUMMARY:MACD Executive Committee
DESCRIPTION:The MACD Executive Committee meets on the first Monday of the Month at 7:30am via zoom. Contact Rebecca Boslough for meeting details. \nBoard Organization Documents
URL:https://macdnet.org/event-calendar/macd-executive-committee/2025-02-03/
LOCATION:Zoom
CATEGORIES:Meetings
ATTACH;FMTTYPE=image/jpeg:https://macdnet.org/wp-content/uploads/2022/02/MACD-logo-state-square-clear-background-1.jpg
END:VEVENT
BEGIN:VEVENT
DTSTART;TZID=America/Denver:20250203T080000
DTEND;TZID=America/Denver:20250204T170000
DTSTAMP:20260422T070959
CREATED:20241125T195330Z
LAST-MODIFIED:20250311T202851Z
UID:49889-1738569600-1738688400@macdnet.org
SUMMARY:2025 MWCC Virtual Annual Meeting
DESCRIPTION:2025 MWCC Virtual Annual Meeting\nFebruary 3-4\, 2025 \nEach year\, MWCC hosts an annual meeting to provide updates on our programs and resources to partners\, as well as to provide opportunities for the collaborative conservation community to connect and learn. \nPlease save the date for our upcoming Virtual Annual Meeting on February 3 & 4!  \nMore Information Here
URL:https://macdnet.org/event-calendar/2025-mwcc-virtual-annual-meeting/
LOCATION:Zoom
CATEGORIES:Events Calendar,Meetings
END:VEVENT
BEGIN:VEVENT
DTSTART;TZID=America/Denver:20250203T133000
DTEND;TZID=America/Denver:20250203T133000
DTSTAMP:20260422T070959
CREATED:20210920T235755Z
LAST-MODIFIED:20210920T235755Z
UID:35624-1738589400-1738589400@macdnet.org
SUMMARY:North Powell CD Meeting
DESCRIPTION:
URL:https://macdnet.org/event-calendar/__trashed-17__trashed/2025-02-03/
CATEGORIES:CD Board Meetings
END:VEVENT
END:VCALENDAR