BEGIN:VCALENDAR
VERSION:2.0
PRODID:-//Montana Association of Conservation Districts - ECPv6.15.20//NONSGML v1.0//EN
CALSCALE:GREGORIAN
METHOD:PUBLISH
X-WR-CALNAME:Montana Association of Conservation Districts
X-ORIGINAL-URL:https://macdnet.org
X-WR-CALDESC:Events for Montana Association of Conservation Districts
REFRESH-INTERVAL;VALUE=DURATION:PT1H
X-Robots-Tag:noindex
X-PUBLISHED-TTL:PT1H
BEGIN:VTIMEZONE
TZID:America/Denver
BEGIN:DAYLIGHT
TZOFFSETFROM:-0700
TZOFFSETTO:-0600
TZNAME:MDT
DTSTART:20230312T090000
END:DAYLIGHT
BEGIN:STANDARD
TZOFFSETFROM:-0600
TZOFFSETTO:-0700
TZNAME:MST
DTSTART:20231105T080000
END:STANDARD
BEGIN:DAYLIGHT
TZOFFSETFROM:-0700
TZOFFSETTO:-0600
TZNAME:MDT
DTSTART:20240310T090000
END:DAYLIGHT
BEGIN:STANDARD
TZOFFSETFROM:-0600
TZOFFSETTO:-0700
TZNAME:MST
DTSTART:20241103T080000
END:STANDARD
BEGIN:DAYLIGHT
TZOFFSETFROM:-0700
TZOFFSETTO:-0600
TZNAME:MDT
DTSTART:20250309T090000
END:DAYLIGHT
BEGIN:STANDARD
TZOFFSETFROM:-0600
TZOFFSETTO:-0700
TZNAME:MST
DTSTART:20251102T080000
END:STANDARD
END:VTIMEZONE
BEGIN:VEVENT
DTSTART;TZID=America/Denver:20241203T090000
DTEND;TZID=America/Denver:20241203T170000
DTSTAMP:20260421T204945
CREATED:20210908T031402Z
LAST-MODIFIED:20210908T031402Z
UID:45085-1733216400-1733245200@macdnet.org
SUMMARY:Toole CD Meeting
DESCRIPTION:Contact the conservation district for the most up-to-date meeting information
URL:https://macdnet.org/event-calendar/toole-cd-meeting/2024-12-03/
LOCATION:Shelby USDA Service Center\, 1125 Oilfield Avenue\, Shelby\, 59474\, United States
END:VEVENT
BEGIN:VEVENT
DTSTART;TZID=America/Denver:20241203T093000
DTEND;TZID=America/Denver:20241203T150000
DTSTAMP:20260421T204945
CREATED:20241127T152503Z
LAST-MODIFIED:20241127T155849Z
UID:50039-1733218200-1733238000@macdnet.org
SUMMARY:FWP Citizen Advisory Council Legislative Open House Meeting
DESCRIPTION:FWP Citizen Advisory Council Legislative Open House Meeting\nDecember 3\, 2024 \n09:30AM – 03:00PM  \n277 Hwy 117  \nFort Peck\, MT 59223 \nThe main purpose of this meeting is for FWP Helena staff to share with legislators\, CAC members\, and the public the legislative proposals that involve FWP\, the FWP budget\, and to answer any questions on these or other related topics. The meeting will be conducted as follows: \n\n9:30 a.m.-12 p.m.       Region 6 CAC updates and CAC roundtable\n12 p.m.-1 p.m.            Lunch for CAC members\, invited guests\, and FWP staff\n1 p.m.-3 p.m.              Legislative open house:  FWP Helena staff will present topics and bills related to the upcoming legislative session and FWP budget\n\nFor more information\, click here.
URL:https://macdnet.org/event-calendar/fwp-citizen-advisory-council-legislative-open-house-meeting/
LOCATION:Fort Peck State Fish Hatchery\, 277 Hwy 117 \, Fort Peck\, Montana\, 59223
CATEGORIES:Events Calendar,Meetings
END:VEVENT
BEGIN:VEVENT
DTSTART;TZID=America/Denver:20241203T110000
DTEND;TZID=America/Denver:20241203T110000
DTSTAMP:20260421T204945
CREATED:20210920T235802Z
LAST-MODIFIED:20210920T235802Z
UID:34535-1733223600-1733223600@macdnet.org
SUMMARY:Park CD Meeting
DESCRIPTION:Please see the Park CD website for more information.
URL:https://macdnet.org/event-calendar/__trashed-59__trashed/2024-12-03/
CATEGORIES:CD Board Meetings
END:VEVENT
BEGIN:VEVENT
DTSTART;TZID=America/Denver:20241203T140000
DTEND;TZID=America/Denver:20241203T140000
DTSTAMP:20260421T204945
CREATED:20210920T235755Z
LAST-MODIFIED:20210920T235755Z
UID:34536-1733234400-1733234400@macdnet.org
SUMMARY:Stillwater CD Meeting
DESCRIPTION:
URL:https://macdnet.org/event-calendar/__trashed-14__trashed/2024-12-03/
CATEGORIES:CD Board Meetings
END:VEVENT
BEGIN:VEVENT
DTSTART;TZID=America/Denver:20241203T173000
DTEND;TZID=America/Denver:20241203T173000
DTSTAMP:20260421T204945
CREATED:20210920T235754Z
LAST-MODIFIED:20210920T235754Z
UID:34533-1733247000-1733247000@macdnet.org
SUMMARY:Custer County CD Meeting
DESCRIPTION:
URL:https://macdnet.org/event-calendar/__trashed-12__trashed/2024-12-03/
CATEGORIES:CD Board Meetings
END:VEVENT
BEGIN:VEVENT
DTSTART;TZID=America/Denver:20241203T190000
DTEND;TZID=America/Denver:20241203T190000
DTSTAMP:20260421T204945
CREATED:20210920T235755Z
LAST-MODIFIED:20210920T235755Z
UID:34534-1733252400-1733252400@macdnet.org
SUMMARY:Judith Basin CD Meeting
DESCRIPTION:
URL:https://macdnet.org/event-calendar/__trashed-19__trashed/2024-12-03/
CATEGORIES:CD Board Meetings
END:VEVENT
BEGIN:VEVENT
DTSTART;TZID=America/Denver:20241203T190000
DTEND;TZID=America/Denver:20241203T190000
DTSTAMP:20260421T204945
CREATED:20210920T235756Z
LAST-MODIFIED:20210920T235756Z
UID:34537-1733252400-1733252400@macdnet.org
SUMMARY:Roosevelt County CD Meeting
DESCRIPTION:Please see the Roosevelt County CD website for more info.
URL:https://macdnet.org/event-calendar/__trashed-20__trashed/2024-12-03/
CATEGORIES:CD Board Meetings
END:VEVENT
BEGIN:VEVENT
DTSTART;TZID=America/Denver:20241203T190000
DTEND;TZID=America/Denver:20241203T190000
DTSTAMP:20260421T204945
CREATED:20210920T235756Z
LAST-MODIFIED:20210920T235756Z
UID:34539-1733252400-1733252400@macdnet.org
SUMMARY:Wibaux CD Meeting
DESCRIPTION:
URL:https://macdnet.org/event-calendar/__trashed-26__trashed/2024-12-03/
CATEGORIES:CD Board Meetings
END:VEVENT
BEGIN:VEVENT
DTSTART;TZID=America/Denver:20241203T190000
DTEND;TZID=America/Denver:20241203T220000
DTSTAMP:20260421T204945
CREATED:20210920T201921Z
LAST-MODIFIED:20210920T201921Z
UID:34531-1733252400-1733263200@macdnet.org
SUMMARY:Roosevelt CD Board Meeting
DESCRIPTION:Contact Roosevelt CD for the most up-to-date meeting information.
URL:https://macdnet.org/event-calendar/roosevelt-cd-board-meeting/2024-12-03/
LOCATION:USDA Culbertson Office\, 508 E 6th\, Culbertson\, MT\, United States
CATEGORIES:CD Board Meetings
END:VEVENT
END:VCALENDAR