BEGIN:VCALENDAR
VERSION:2.0
PRODID:-//Montana Association of Conservation Districts - ECPv6.15.20//NONSGML v1.0//EN
CALSCALE:GREGORIAN
METHOD:PUBLISH
X-ORIGINAL-URL:https://macdnet.org
X-WR-CALDESC:Events for Montana Association of Conservation Districts
REFRESH-INTERVAL;VALUE=DURATION:PT1H
X-Robots-Tag:noindex
X-PUBLISHED-TTL:PT1H
BEGIN:VTIMEZONE
TZID:America/Denver
BEGIN:DAYLIGHT
TZOFFSETFROM:-0700
TZOFFSETTO:-0600
TZNAME:MDT
DTSTART:20220313T090000
END:DAYLIGHT
BEGIN:STANDARD
TZOFFSETFROM:-0600
TZOFFSETTO:-0700
TZNAME:MST
DTSTART:20221106T080000
END:STANDARD
BEGIN:DAYLIGHT
TZOFFSETFROM:-0700
TZOFFSETTO:-0600
TZNAME:MDT
DTSTART:20230312T090000
END:DAYLIGHT
BEGIN:STANDARD
TZOFFSETFROM:-0600
TZOFFSETTO:-0700
TZNAME:MST
DTSTART:20231105T080000
END:STANDARD
BEGIN:DAYLIGHT
TZOFFSETFROM:-0700
TZOFFSETTO:-0600
TZNAME:MDT
DTSTART:20240310T090000
END:DAYLIGHT
BEGIN:STANDARD
TZOFFSETFROM:-0600
TZOFFSETTO:-0700
TZNAME:MST
DTSTART:20241103T080000
END:STANDARD
END:VTIMEZONE
BEGIN:VEVENT
DTSTART;TZID=America/Denver:20230706T080000
DTEND;TZID=America/Denver:20230706T170000
DTSTAMP:20260421T124905
CREATED:20230615T201845Z
LAST-MODIFIED:20230615T201917Z
UID:38241-1688630400-1688662800@macdnet.org
SUMMARY:2023 Range Tour
DESCRIPTION:[vc_row][vc_column][vc_column_text]Registration: https://opp.mt.gov/doa/opp/DNRRangelandResourceProgram/cart \nMT-Range-Tour-AGENDA_2023[/vc_column_text][/vc_column][/vc_row]
URL:https://macdnet.org/event-calendar/2023-range-tour/
LOCATION:Emigrant\, MT\, Emigrant\, MT\, United States
CATEGORIES:Events Calendar,Trainings and Workshops
END:VEVENT
BEGIN:VEVENT
DTSTART;TZID=America/Denver:20230710T073000
DTEND;TZID=America/Denver:20230710T090000
DTSTAMP:20260421T124905
CREATED:20220202T204005Z
LAST-MODIFIED:20230615T185844Z
UID:25366-1688974200-1688979600@macdnet.org
SUMMARY:MACD Board Meeting
DESCRIPTION:[vc_row][vc_column][vc_column_text]\nMACD Board Meeting\nMonday\, July 10⋅7:30 – 9:00am \nJoin Zoom Meeting https://us06web.zoom.us/j/89875002317?pwd=ZTRHU09aZHhSQVJzZVhQTlN1WXZ5Zz09 \nMeeting ID: 898 7500 2317\nPasscode: 332636 — \nOne tap mobile\n+12532158782\,\,89875002317#\,\,\,\,*332636# US (Tacoma)\n+13462487799\,\,89875002317#\,\,\,\,*332636# US (Houston)[/vc_column_text][/vc_column][/vc_row]
URL:https://macdnet.org/event-calendar/macd-board-meeting-3-2023-07-10/
LOCATION:Zoom
CATEGORIES:Meetings
ATTACH;FMTTYPE=image/png:https://macdnet.org/wp-content/uploads/2021/12/macd-draft-3.png
END:VEVENT
END:VCALENDAR